BEGIN:VCALENDAR
VERSION:2.0
METHOD:PUBLISH
X-WR-CALNAME;VALUE=TEXT:
PRODID:-//Drupal iCal API//EN
BEGIN:VEVENT
UID:wfbb-event-1135
DTSTAMP:20240913T114147Z
DTSTART:20201008T073000Z
DTEND:20201008T100000Z
SUMMARY:Gesund und Bunt?! Tierisch alternativ - vom Erbsenjoghurt bis zum Insektensnack
DESCRIPTION:Die virtuelle Veranstaltung widmet sich der Chance von alternativen Proteinquellen für die menschliche Ernährung.
LOCATION:online
URL:http://www.j-work.de/up/nutri20/
END:VEVENT
END:VCALENDAR
