BEGIN:VCALENDAR
VERSION:2.0
METHOD:PUBLISH
X-WR-CALNAME;VALUE=TEXT:
PRODID:-//Drupal iCal API//EN
BEGIN:VEVENT
UID:wfbb-event-1138
DTSTAMP:20240913T114147Z
DTSTART:20200824T110000Z
DTEND:20200824T160000Z
SUMMARY:Perspektivgespräche 2020 | Nachhaltigkeit in der Land- und Ernährungswirtschaft
DESCRIPTION:Die Perspektivgespräche im Cluster Ernährungswirtschaft sollen innovative Unternehmer mit Wissenschaftlern zu einem speziellen jährlich wechselnden Thema zusammenbringen.
LOCATION:
URL:
END:VEVENT
END:VCALENDAR
