BEGIN:VCALENDAR
VERSION:2.0
METHOD:PUBLISH
X-WR-CALNAME;VALUE=TEXT:
PRODID:-//Drupal iCal API//EN
BEGIN:VEVENT
UID:wfbb-event-1145
DTSTAMP:20240913T114147Z
DTSTART:20200820T090000Z
DTEND:20200820T100000Z
SUMMARY:ZIM Netzwerk Mental Gesund
DESCRIPTION:Vorstellung des Vorhabens „ZIM-Kooperationsnetzwerk zur Entwicklung von Anwendungen und Applikationen zur Stärkung der mentalen Gesundheit“
LOCATION:online 00000 virtuell
URL:https://www.healthcapital.de/termine/termin/netzwerk-mental-gesund/
END:VEVENT
END:VCALENDAR
