BEGIN:VCALENDAR
VERSION:2.0
METHOD:PUBLISH
X-WR-CALNAME;VALUE=TEXT:
PRODID:-//Drupal iCal API//EN
BEGIN:VEVENT
UID:wfbb-event-1299
DTSTAMP:20240913T114147Z
DTSTART:20200926T070000Z
DTEND:20200926T123000Z
SUMMARY:Offene Unternehmensbesuche 2020
DESCRIPTION:Die Wirtschaftsregion Westbrandenburg schafft mit den „Offenen Unternehmensbesuchen 2020“ in den Städten Brandenburg an der Havel, Premnitz und Rathenow sowie im Landkreis Havelland ein Angebot für alle Ausbildungsinteressierten.
LOCATION:Brandenburg an der Havel Premnitz 00000 Rathenow
URL:https://wirtschaftsregionwestbrandenburg.de/anmeldung-zu-offene-unternehmensbesuche-jetzt-online/
END:VEVENT
END:VCALENDAR
