BEGIN:VCALENDAR
VERSION:2.0
METHOD:PUBLISH
X-WR-CALNAME;VALUE=TEXT:
PRODID:-//Drupal iCal API//EN
BEGIN:VEVENT
UID:wfbb-event-1947
DTSTAMP:20241118T145935Z
DTSTART:20210324T090000Z
DTEND:20210324T110000Z
SUMMARY:Seminar zum Förderprogramm „Dekarbonisierung in der Industrie“
DESCRIPTION:Das Kompetenzzentrum Klimaschutz in energieintensiven Industrien (KEI) und die Landesinitiative IN4climate.NRW laden Sie herzlich am 24. März 2021 zu einem Online-Seminar rund um das neue BMU-Förderprogramm „Dekarbonisierung in der Industrie“ ein.
LOCATION:online
URL:https://www.klimaschutz-industrie.de/seminar-foerderprogramm-anmeldung/
END:VEVENT
END:VCALENDAR
