BEGIN:VCALENDAR
VERSION:2.0
METHOD:PUBLISH
X-WR-CALNAME;VALUE=TEXT:
PRODID:-//Drupal iCal API//EN
BEGIN:VEVENT
UID:wfbb-event-1965
DTSTAMP:20240913T114147Z
DTSTART:20210909T120000Z
DTEND:20210909T160000Z
SUMMARY:Clusterkonferenz 2021 - 11. Tag der Ernährungswirtschaft
DESCRIPTION:Krisen, Pandemien und Verwerfungen – Bedrohungen oder Zukunftschancen für die Ernährungswirtschaft?
LOCATION:Konferenzgebäude CIRCLE | Leibniz-Institut für Agrartechnik und Bioökonomie Max-Eyth-Allee 100 14469 Potsdam
URL:
END:VEVENT
END:VCALENDAR
