BEGIN:VCALENDAR
VERSION:2.0
METHOD:PUBLISH
X-WR-CALNAME;VALUE=TEXT:
PRODID:-//Drupal iCal API//EN
BEGIN:VEVENT
UID:wfbb-event-2055
DTSTAMP:20240913T114147Z
DTSTART:20210503T080000Z
DTEND:20210508T140000Z
SUMMARY:Potsdamer Tage der Wissenschaften 2021
DESCRIPTION:Wissenschaft erleben – auch in Pandemiezeiten! Durch das Universum reisen? Forschungslabore erkunden? Das Innere von Pflanzen bestaunen? All das und noch viel mehr ist möglich bei den diesjährigen virtuellen Potsdamer Tagen der Wissenschaften.
LOCATION:online
URL:https://ptdw.de/
END:VEVENT
END:VCALENDAR
