BEGIN:VCALENDAR
VERSION:2.0
METHOD:PUBLISH
X-WR-CALNAME;VALUE=TEXT:
PRODID:-//Drupal iCal API//EN
BEGIN:VEVENT
UID:wfbb-event-2084
DTSTAMP:20240913T114147Z
DTSTART:20210617T070000Z
DTEND:20210617T110000Z
SUMMARY:Innovationsakademie Bioökonomie Berlin-Brandenburg 2021
DESCRIPTION:Die Innovationsakademie Bioökonomie Berlin-Brandenburg findet bereits zum 6. Mal statt.
LOCATION:online
URL:https://zoom.us/meeting/register/tJMld-CpqjstEtTRviQxH0VZC-T_dfEX_Cdz
END:VEVENT
END:VCALENDAR
