BEGIN:VCALENDAR
VERSION:2.0
METHOD:PUBLISH
X-WR-CALNAME;VALUE=TEXT:
PRODID:-//Drupal iCal API//EN
BEGIN:VEVENT
UID:wfbb-event-2093
DTSTAMP:20240913T114147Z
DTSTART:20210618T080000Z
DTEND:20210618T130000Z
SUMMARY:Was geht auf dem Brandenburger Acker?
DESCRIPTION:Save the Date: Landwirtschaft im Dialog auf dem Gelände des MAFZ in Paaren-Glien
LOCATION:MAFZ Erlebnispark Paaren Gartenstr. 1-3 14621 Schönwalde-Glien
URL:https://www.lbv-brandenburg.de/media/com_jem/attachments/event11/infotag_an_den_parzellen_-_18_6_2021_-_anmeldung_200392334.pdf
END:VEVENT
END:VCALENDAR
