BEGIN:VCALENDAR
VERSION:2.0
METHOD:PUBLISH
X-WR-CALNAME;VALUE=TEXT:
PRODID:-//Drupal iCal API//EN
BEGIN:VEVENT
UID:wfbb-event-2109
DTSTAMP:20240913T114147Z
DTSTART:20210526T130000Z
DTEND:20210526T150000Z
SUMMARY:Onlineseminar I | Bin ich ein attraktiver Arbeitgeber?
DESCRIPTION:Teil 1 der Veranstaltungsreihe "Fach- und Arbeitskräfte gewinnen und halten" für die Ernährungswirtschaft der Hauptstadtregion.
LOCATION:online
URL:
END:VEVENT
END:VCALENDAR
