BEGIN:VCALENDAR
VERSION:2.0
METHOD:PUBLISH
X-WR-CALNAME;VALUE=TEXT:
PRODID:-//Drupal iCal API//EN
BEGIN:VEVENT
UID:wfbb-event-2111
DTSTAMP:20240913T114147Z
DTSTART:20211118T140000Z
DTEND:20211118T160000Z
SUMMARY:Onlineseminar III | Wie nutze ich Karriereseiten wirksam?
DESCRIPTION:Teil 3 der Veranstaltungsreihe "Fach- und Arbeitskräfte gewinnen und halten" für die Ernährungswirtschaft der Hauptstadtregion.
LOCATION:online
URL:
END:VEVENT
END:VCALENDAR
