BEGIN:VCALENDAR
VERSION:2.0
METHOD:PUBLISH
X-WR-CALNAME;VALUE=TEXT:
PRODID:-//Drupal iCal API//EN
BEGIN:VEVENT
UID:wfbb-event-2303
DTSTAMP:20240913T114147Z
DTSTART:20211020T120000Z
DTEND:20211020T160000Z
SUMMARY:To-Go-Mehrwegsysteme für Gastronomie, Großküchen, Metzgereien und Kommunen
DESCRIPTION:Die Online-Veranstaltung richtet sich an Gastronomiebetriebe, Imbisse, Bäckereien, Konditoreien, Metzgereien, die überlegen, Einwegverpackungen durch To-Go-Mehrwegsysteme zu ersetzen.
LOCATION:online
URL:https://www.edudip.com/de/webinar/to-go-mehrwegsysteme-fur-gastronomie-grosskuchen-und-kommunen/1543546
END:VEVENT
END:VCALENDAR
