BEGIN:VCALENDAR
VERSION:2.0
METHOD:PUBLISH
X-WR-CALNAME;VALUE=TEXT:
PRODID:-//Drupal iCal API//EN
BEGIN:VEVENT
UID:wfbb-event-2394
DTSTAMP:20240913T114147Z
DTSTART:20211028T074500Z
DTEND:20211028T131500Z
SUMMARY:Tag der Direktvermarktung 2021
DESCRIPTION:Agrarmarketingverband pro agro lädt gemeinsam mit dem Forum ländlicher Raum – Netzwerk Brandenburg zu seiner jährlichen Fachtagung
LOCATION:Heimvolkshochschule am Seddiner See Seeweg 2 14554 Seddiner See
URL:https://www.forum-netzwerk-brandenburg.de/de/veranstaltungen/aktuelle-veranstaltungen/anmeldung-zum-tag-der-direktvermarktung-und-des-ernaehrungshandwerks-am-28.10.2021
END:VEVENT
END:VCALENDAR
