BEGIN:VCALENDAR
VERSION:2.0
METHOD:PUBLISH
X-WR-CALNAME;VALUE=TEXT:
PRODID:-//Drupal iCal API//EN
BEGIN:VEVENT
UID:wfbb-event-2507
DTSTAMP:20240913T114147Z
DTSTART:20211209T100000Z
DTEND:20211209T113000Z
SUMMARY:FOOD ﻿INNOVATION &amp; UPSCALING IN FLANDERN/BELGIUM
DESCRIPTION:Ein Online Meetup um Chancen und Möglichkeiten für Unternehmen der Ernährungswirtschaft in Belgien kennenzulernen.
LOCATION:
URL:https://go-west-online-meetup-food.b2match.io/
END:VEVENT
END:VCALENDAR
