BEGIN:VCALENDAR
VERSION:2.0
METHOD:PUBLISH
X-WR-CALNAME;VALUE=TEXT:
PRODID:-//Drupal iCal API//EN
BEGIN:VEVENT
UID:wfbb-event-2581
DTSTAMP:20241118T145925Z
DTSTART:20220228T080000Z
DTEND:20220228T140000Z
SUMMARY:Beratertage des IMI im Dock³ Lausitz
DESCRIPTION:Impulse – Fragen – Antworten: Erfahren Sie alles Wesentliche zu Technologien und Herangehensweisen, die Sie in Sachen Digitalisierung voranbringen.
LOCATION:Spremberg, Dock³ Lausitz Südstraße 3 02979 Spreetal
URL:https://www.imi4bb.de/event-details/beratertag-im-dock-lausitz-4/form
END:VEVENT
END:VCALENDAR
