BEGIN:VCALENDAR
VERSION:2.0
METHOD:PUBLISH
X-WR-CALNAME;VALUE=TEXT:
PRODID:-//Drupal iCal API//EN
BEGIN:VEVENT
UID:wfbb-event-2610
DTSTAMP:20240913T114340Z
DTSTART:20220216T090000Z
DTEND:20220216T100000Z
SUMMARY:KMU innovativ: Bioökonomie
DESCRIPTION:Die nächste Einreichungsfrist für KMU innovativ: Bioökonomie endet am 15. April 2022. 
LOCATION:online
URL:https://formulare.ptj.de/kmui-biooekonomie
END:VEVENT
END:VCALENDAR
