BEGIN:VCALENDAR
VERSION:2.0
METHOD:PUBLISH
X-WR-CALNAME;VALUE=TEXT:
PRODID:-//Drupal iCal API//EN
BEGIN:VEVENT
UID:wfbb-event-2624
DTSTAMP:20240913T114340Z
DTSTART:20220503T070000Z
DTEND:20220503T130000Z
SUMMARY:Feldrobotik Workshop 2022
DESCRIPTION:Zweiter patchCROP Feldrobotik Tag auf den landwirtschaftlichen Flächen der Komturei Lietzen GmbH
LOCATION:
URL:
END:VEVENT
END:VCALENDAR
