BEGIN:VCALENDAR
VERSION:2.0
METHOD:PUBLISH
X-WR-CALNAME;VALUE=TEXT:
PRODID:-//Drupal iCal API//EN
BEGIN:VEVENT
UID:wfbb-event-2757
DTSTAMP:20260115T085310Z
DTSTART:20220507T110000Z
DTEND:20220507T180000Z
SUMMARY:Potsdamer Tag der Wissenschaften
DESCRIPTION:Bereits zum achten Mal findet der Potsdamer Tag der Wissenschaften statt. Mehr als 30 Hochschulen, Schulen und Forschungseinrichtungen Brandenburgs präsentieren am Leibniz-Institut für Agrartechnik und Bioökonomie mehr als 150 Programmpunkte. 
LOCATION:LEIBNIZ-INSTITUT FÜR AGRARTECHNIK UND BIOÖKONOMIE E.V. (ATB)  Max-Eyth-Allee 100 14469 Potsdam
URL:
END:VEVENT
END:VCALENDAR
