BEGIN:VCALENDAR
VERSION:2.0
METHOD:PUBLISH
X-WR-CALNAME;VALUE=TEXT:
PRODID:-//Drupal iCal API//EN
BEGIN:VEVENT
UID:wfbb-event-2842
DTSTAMP:20240913T114340Z
DTSTART:20220615T080000Z
DTEND:20220615T130000Z
SUMMARY:Infotag an den Parzellen
DESCRIPTION: Forschungseinrichtungen, Betriebe und Verarbeiter zeigen an Demonstrationsparzellen Potenziale „anderer Kulturen“ für Brandenburg.
LOCATION:Gartenstraße 1-3 14621 Schönwalde-Glien
URL:https://www.lbv-brandenburg.de/termine-2/veranstaltungen/event/26-infotag-an-den-parzellen
END:VEVENT
END:VCALENDAR
