BEGIN:VCALENDAR
VERSION:2.0
METHOD:PUBLISH
X-WR-CALNAME;VALUE=TEXT:
PRODID:-//Drupal iCal API//EN
BEGIN:VEVENT
UID:wfbb-event-2845
DTSTAMP:20240913T114340Z
DTSTART:20220611T080000Z
DTEND:20220612T160000Z
SUMMARY:27. Brandenburger Landpartie
DESCRIPTION:Entdecken – Erleben – Genießen: Unter diesem Motto findet am 2. Juniwo-chenende mit der 27. Landpartie die publikumsstärkste Veranstaltung im ländlichen Raum Brandenburgs statt.
LOCATION:
URL:
END:VEVENT
END:VCALENDAR
