BEGIN:VCALENDAR
VERSION:2.0
METHOD:PUBLISH
X-WR-CALNAME;VALUE=TEXT:
PRODID:-//Drupal iCal API//EN
BEGIN:VEVENT
UID:wfbb-event-2880
DTSTAMP:20240913T114340Z
DTSTART:20220627T070000Z
DTEND:20220627T120000Z
SUMMARY:Weiterbildung durch Vertrauen stärken
DESCRIPTION:Weiterbildungsmentoring als innovativer Ansatz zur nachhaltigen Stärkung der betrieblichen Weiterbildungskultur.
LOCATION:Heimvolkshochschule Seddiner See Seeweg 2 14554 Seddiner See
URL:https://www.imu-berlin.de/wp-content/uploads/2022/05/20220627_WBM-VA_Anmeldung_.pdf
END:VEVENT
END:VCALENDAR
