BEGIN:VCALENDAR
VERSION:2.0
METHOD:PUBLISH
X-WR-CALNAME;VALUE=TEXT:
PRODID:-//Drupal iCal API//EN
BEGIN:VEVENT
UID:wfbb-event-2902
DTSTAMP:20240913T114340Z
DTSTART:20220824T073000Z
DTEND:20220824T154500Z
SUMMARY:Regionale Wertschöpfungsketten im Bio-Bereich
DESCRIPTION:Einladung zur Marktinformationsveranstaltung für den Aufbau von Regionalen Wertschöpfungsketten für Bio-Gemüse / Bio-Fleisch / Bio-Kichererbsen
LOCATION:TUECHTIG Eventraum in den Osramhöfen Oudenarder Straße 16 13347 Berlin
URL:
END:VEVENT
END:VCALENDAR
