BEGIN:VCALENDAR
VERSION:2.0
METHOD:PUBLISH
X-WR-CALNAME;VALUE=TEXT:
PRODID:-//Drupal iCal API//EN
BEGIN:VEVENT
UID:wfbb-event-2903
DTSTAMP:20240913T114340Z
DTSTART:20220928T080000Z
DTEND:20220928T150000Z
SUMMARY:Dialogforum Kreislaufwirtschaft 2022
DESCRIPTION:NABU und Der Grüne Punkt laden ein
LOCATION:
URL:https://www.nabu.de/wir-ueber-uns/veranstaltungen/31872.html
END:VEVENT
END:VCALENDAR
