BEGIN:VCALENDAR
VERSION:2.0
METHOD:PUBLISH
X-WR-CALNAME;VALUE=TEXT:
PRODID:-//Drupal iCal API//EN
BEGIN:VEVENT
UID:wfbb-event-2933
DTSTAMP:20240913T114340Z
DTSTART:20220920T120000Z
DTEND:20220920T160000Z
SUMMARY:Steigerung der Ressourcen- und Prozesseffizienz in der Ernährungswirtschaft
DESCRIPTION:Konkrete Anwendungsbeispiele und Veranstaltungspartner der regionalen Ernährungswirtschaft zeigen Möglichkeiten der Automatisierung in der Ernährungswirtschaft auf.
LOCATION:Florida Eis Manufaktur GmbH Am Zeppelinpark 53 13591 Berlin
URL:
END:VEVENT
END:VCALENDAR
