BEGIN:VCALENDAR
VERSION:2.0
METHOD:PUBLISH
X-WR-CALNAME;VALUE=TEXT:
PRODID:-//Drupal iCal API//EN
BEGIN:VEVENT
UID:wfbb-event-3013
DTSTAMP:20240913T114340Z
DTSTART:20221020T080000Z
DTEND:20221020T140000Z
SUMMARY:Tag der Direktvermarktung 2022
DESCRIPTION:Agrarmarketingverband pro agro lädt gemeinsam mit dem Forum ländlicher Raum – Netzwerk Brandenburg zur jährlichen Fachtagung für die Direktvermarktung und das Ernährungshandwerk
LOCATION:Heimvolkshochschule am Seddiner See Seeweg 2 14554 Seddiner See
URL:https://www.forum-netzwerk-brandenburg.de/de/veranstaltungen/aktuelle-veranstaltungen/anmeldung-zur-veranstaltung-tag-der-direktvermarktung-und-des-ernaehrungshandwerks-am-20.-oktober-2022
END:VEVENT
END:VCALENDAR
