BEGIN:VCALENDAR
VERSION:2.0
METHOD:PUBLISH
X-WR-CALNAME;VALUE=TEXT:
PRODID:-//Drupal iCal API//EN
BEGIN:VEVENT
UID:wfbb-event-3060
DTSTAMP:20240913T114409Z
DTSTART:20221110T090000Z
DTEND:20221110T123000Z
SUMMARY:Ideenwerkstatt: KI-Potenziale im Betrieb aufdecken
DESCRIPTION:Lernen Sie verschiedene Anwendungsmöglichkeiten künstlicher Intelligenz kennen.
LOCATION:Präsenzstelle Luckenwalde Beelitzer Str. 24 14943 Luckenwalde
URL:https://www.zukunftszentrum-brandenburg.de/veranstaltung/ideenwerkstatt-ki-potenziale-im-betrieb-aufdecken/
END:VEVENT
END:VCALENDAR
