BEGIN:VCALENDAR
VERSION:2.0
METHOD:PUBLISH
X-WR-CALNAME;VALUE=TEXT:
PRODID:-//Drupal iCal API//EN
BEGIN:VEVENT
UID:wfbb-event-3107
DTSTAMP:20240913T114409Z
DTSTART:20230119T150000Z
DTEND:20230119T173000Z
SUMMARY:Sprungbrett 23
DESCRIPTION:Jahresauftakttreffen zu Angeboten aus dem Team #WFBBInternational der Wirtschaftsförderung Land Brandenburg GmbH 
LOCATION:Raum AG01 | Wirtschaftsförderung Land Brandenburg GmbH Babelsberger Str. 21 14473 Potsdam
URL:https://www.wfbb.de/termine-und-events/sprungbrett-23-angebote-im-jahr-2023-von-wfbbinternational
END:VEVENT
END:VCALENDAR
