BEGIN:VCALENDAR
VERSION:2.0
METHOD:PUBLISH
X-WR-CALNAME;VALUE=TEXT:
PRODID:-//Drupal iCal API//EN
BEGIN:VEVENT
UID:wfbb-event-3117
DTSTAMP:20240913T114409Z
DTSTART:20221214T130000Z
DTEND:20221214T150000Z
SUMMARY:Cybersecurity in der Lebensmittelbranche
DESCRIPTION:Prävention - Detektion - Reaktion
LOCATION:online
URL:https://www.dil-ev.de/events/details.html?terminID=156
END:VEVENT
END:VCALENDAR
