BEGIN:VCALENDAR
VERSION:2.0
METHOD:PUBLISH
X-WR-CALNAME;VALUE=TEXT:
PRODID:-//Drupal iCal API//EN
BEGIN:VEVENT
UID:wfbb-event-3132
DTSTAMP:20240913T114409Z
DTSTART:20230118T140000Z
DTEND:20230118T170000Z
SUMMARY:„Start-up meets Grown-up – Landwirtschaft und Gartenbau“
DESCRIPTION:Ziel ist es etablierte Brandenburger Betriebe, Start-ups und Forschende aus den Bereichen Landwirtschaft und Gartenbau zusammenzubringen.
LOCATION:GO:IN Am Mühlberg 11 14476 Potsdam
URL:
END:VEVENT
END:VCALENDAR
