BEGIN:VCALENDAR
VERSION:2.0
METHOD:PUBLISH
X-WR-CALNAME;VALUE=TEXT:
PRODID:-//Drupal iCal API//EN
BEGIN:VEVENT
UID:wfbb-event-3140
DTSTAMP:20240913T114409Z
DTSTART:20230119T080000Z
DTEND:20230119T100000Z
SUMMARY:The future of proteins – SCP &amp; Cultured meat
DESCRIPTION:Workshop of the Global Foodture Community
LOCATION:
URL:https://globalfoodture.b2match.io/page-811
END:VEVENT
END:VCALENDAR
