BEGIN:VCALENDAR
VERSION:2.0
METHOD:PUBLISH
X-WR-CALNAME;VALUE=TEXT:
PRODID:-//Drupal iCal API//EN
BEGIN:VEVENT
UID:wfbb-event-3141
DTSTAMP:20240913T114409Z
DTSTART:20230216T080000Z
DTEND:20230216T100000Z
SUMMARY:Digital technologies uptake in order to support the future of the food system
DESCRIPTION: Agriculture – cultivation and support solutions 
LOCATION:
URL:https://globalfoodture.b2match.io/page-811
END:VEVENT
END:VCALENDAR
