BEGIN:VCALENDAR
VERSION:2.0
METHOD:PUBLISH
X-WR-CALNAME;VALUE=TEXT:
PRODID:-//Drupal iCal API//EN
BEGIN:VEVENT
UID:wfbb-event-3199
DTSTAMP:20240913T114409Z
DTSTART:20230420T130000Z
DTEND:20230420T150000Z
SUMMARY:Praxis trifft Theorie #1
DESCRIPTION: – wie die Lebensmitteltechnologie Unternehmen der Ernährungswirtschaft unterstützt 
LOCATION:online
URL:
END:VEVENT
END:VCALENDAR
