BEGIN:VCALENDAR
VERSION:2.0
METHOD:PUBLISH
X-WR-CALNAME;VALUE=TEXT:
PRODID:-//Drupal iCal API//EN
BEGIN:VEVENT
UID:wfbb-event-3212
DTSTAMP:20240913T114409Z
DTSTART:20230330T080000Z
DTEND:20230330T100000Z
SUMMARY:Lebensmittelverluste in der Lebensmittelverarbeitung reduzieren
DESCRIPTION:Die Reduzierung von Lebensmittelverlusten als Beitrag zu einer nachhaltigeren Ernährungswirtschaft Brandenburg erkennen - Potentiale und Optionen aufzeigen!
LOCATION:online
URL:
END:VEVENT
END:VCALENDAR
