BEGIN:VCALENDAR
VERSION:2.0
METHOD:PUBLISH
X-WR-CALNAME;VALUE=TEXT:
PRODID:-//Drupal iCal API//EN
BEGIN:VEVENT
UID:wfbb-event-3250
DTSTAMP:20240913T114409Z
DTSTART:20230420T063000Z
DTEND:20230420T073000Z
SUMMARY:Morning Call „Verpackung ist mehr(-)wert“
DESCRIPTION:Im aktuellen Morning Call der Präsenzstellen der Hochschulen am Standort Wittenberge stellt sich das Projektteam der Beratungs- und Vernetzungsstelle Verpackungsreduktion in Brandenburg (BVVB) vor. 
LOCATION:online
URL:https://www.praesenzstelle-prignitz.de/termine/detail/morning-call-16032023
END:VEVENT
END:VCALENDAR
