BEGIN:VCALENDAR
VERSION:2.0
METHOD:PUBLISH
X-WR-CALNAME;VALUE=TEXT:
PRODID:-//Drupal iCal API//EN
BEGIN:VEVENT
UID:wfbb-event-3253
DTSTAMP:20240913T114409Z
DTSTART:20230510T120000Z
DTEND:20230510T150000Z
SUMMARY:30 Jahre EU-Binnenmarkt
DESCRIPTION:Begleiten Sie uns auf unserer Reise mit dem #EEN_Deutschland in den Europäischen Binnenmarkt am 10. Mai 2023 in der EU-Vertretung in Berlin.
LOCATION:
URL:https://een-bb.de/termine/detail-seite/save-the-date-30jahrebinnenmarkt-in-berlin/
END:VEVENT
END:VCALENDAR
