BEGIN:VCALENDAR
VERSION:2.0
METHOD:PUBLISH
X-WR-CALNAME;VALUE=TEXT:
PRODID:-//Drupal iCal API//EN
BEGIN:VEVENT
UID:wfbb-event-3278
DTSTAMP:20240913T114409Z
DTSTART:20230615T070000Z
DTEND:20230615T130000Z
SUMMARY:3. Infotag an den Parzellen
DESCRIPTION:Der 3. Infotag an den Parzellen am MAFZ will Praktiker informieren, vernetzen und inspirieren.
LOCATION:MAFZ in Paaren Gartenstraße 1 – 3 14621 Schönwalde-Glien
URL:
END:VEVENT
END:VCALENDAR
