BEGIN:VCALENDAR
VERSION:2.0
METHOD:PUBLISH
X-WR-CALNAME;VALUE=TEXT:
PRODID:-//Drupal iCal API//EN
BEGIN:VEVENT
UID:wfbb-event-3323
DTSTAMP:20240913T114409Z
DTSTART:20230609T110000Z
DTEND:20230609T133000Z
SUMMARY:CO2-Kompensation – Produkte und Dienstleistungen klimaneutral gestalten
DESCRIPTION:Die Landesarbeitsgemeinschaft der IHKen Brandenburg und die Handwerkskammer Potsdam organisieren die AG Nachhaltige Unternehmensführung in KMU
LOCATION:online
URL:
END:VEVENT
END:VCALENDAR
