BEGIN:VCALENDAR
VERSION:2.0
METHOD:PUBLISH
X-WR-CALNAME;VALUE=TEXT:
PRODID:-//Drupal iCal API//EN
BEGIN:VEVENT
UID:wfbb-event-3367
DTSTAMP:20260115T085354Z
DTSTART:20230619T080000Z
DTEND:20230619T150000Z
SUMMARY:2. Brandenburger KI Tag
DESCRIPTION:Nutzen Sie gerne diese Gelegenheit, sich in spannenden Vorträgen und Diskussionen zum Thema KI zu informieren, neue Kontakte zu knüpfen und hilfreiche Anlaufstellen für Ihre Bedarfe zu finden.
LOCATION:Präsenzstelle Luckenwalde Gewerbehof Beelitzer Straße 24 14943 Luckenwalde
URL:https://www.digital-bb.de/eventdetail/brandenburger-ki-tag
END:VEVENT
END:VCALENDAR
