BEGIN:VCALENDAR
VERSION:2.0
METHOD:PUBLISH
X-WR-CALNAME;VALUE=TEXT:
PRODID:-//Drupal iCal API//EN
BEGIN:VEVENT
UID:wfbb-event-3381
DTSTAMP:20240913T114409Z
DTSTART:20230629T110000Z
DTEND:20230629T121500Z
SUMMARY:Konsultation zur Beschränkung von PFAS - Per- und Polyfluoralkylsubstanzen
DESCRIPTION:Die Veranstaltung des Niedersächsischen Ministeriums für Wirtschaft, Verkehr, Bauen und Digitalisierung, des Verbandes der Chemischen Industrie Nord und der Industrie- und Handelskammer Hannover informiert über das geplante Verbot bzw. die Beschränkung der Herstellung, des Inverkehrbringens und der Verwendung von Per- und Polyfluoralkylsubstanzen (PFAS).
LOCATION:online
URL:https://event.hannover.ihk.de/pfas?shortUrl=/pfas
END:VEVENT
END:VCALENDAR
