BEGIN:VCALENDAR
VERSION:2.0
METHOD:PUBLISH
X-WR-CALNAME;VALUE=TEXT:
PRODID:-//Drupal iCal API//EN
BEGIN:VEVENT
UID:wfbb-event-3384
DTSTAMP:20240913T114409Z
DTSTART:20230705T080000Z
DTEND:20230705T130000Z
SUMMARY:Feldtag Lavendel
DESCRIPTION:Austauschformat zu den Lavendelanbauversuchen auf lausitztypischen Böden
LOCATION:Forschungsinstitut für Bergbaufolgelandschaften Brauhausweg 2 03238 Finsterwalde
URL:https://fib-ev.de/2023/05/24/feldtag-lavendel-am-05-07-2023-in-finsterwalde/
END:VEVENT
END:VCALENDAR
