BEGIN:VCALENDAR
VERSION:2.0
METHOD:PUBLISH
X-WR-CALNAME;VALUE=TEXT:
PRODID:-//Drupal iCal API//EN
BEGIN:VEVENT
UID:wfbb-event-3438
DTSTAMP:20240913T114409Z
DTSTART:20230907T103000Z
DTEND:20230907T150000Z
SUMMARY:Mehrweglösungen für regionale Erzeugnisse aus dem Glas
DESCRIPTION:Die BVVB ist die zentrale Anlaufstelle zum Thema Verpackungsreduktion in Brandenburg. Sie will verschiedene Akteur*innen entlang der Lebensmittel-Wertschöpfungskette miteinander vernetzen, ihnen Fachinformationen bereitstellen und mit ihnen gemeinsam sinnvolle Lösungen und konkrete Maßnahmen für Verpackungsreduktion entwickeln und bewerten. Im Mittelpunkt sollen dabei regionale Mehrweg- und ReUse-Lösungen stehen.
LOCATION:Hochschule für nachhaltige Entwicklung Eberswalde, Haus 5, Raum 311 (Stadtcampus)  Schicklerstraße 5 16225 Eberswalde
URL:https://eveeno.com/bvvb-infoveranstaltung-mehrweg-glas
END:VEVENT
END:VCALENDAR
