BEGIN:VCALENDAR
VERSION:2.0
METHOD:PUBLISH
X-WR-CALNAME;VALUE=TEXT:
PRODID:-//Drupal iCal API//EN
BEGIN:VEVENT
UID:wfbb-event-3475
DTSTAMP:20260115T085317Z
DTSTART:20230922T103000Z
DTEND:20230922T130000Z
SUMMARY:Nachhaltige Beschaffung – Anforderungen der öffentlichen Hand
DESCRIPTION:Produkte und Dienstleistungen, die im Rahmen der öffentlichen Auftragsvergabe beschafft werden müssen bestimmten Standards genügen. Soziale und ökologische Anforderungen gewinnen dabei zunehmend an Bedeutung. In Brandenburg regelt das Vergabegesetz (BbgVergG), daß „[…] soziale und umweltbezogene Aspekte berücksichtigt werden, […]“ können bzw. sollen.
Welche Anforderungen gibt es bereits? Welche Entwicklungen sind in den kommenden Jahren zu erwarten? Wie können öffentliche Ausschreibungen so gestaltet werden, dass kleine und mittlere Unternehmen im Wettbewerb teilnehmen können?
Wir wollen in der Veranstaltung grundlegende Informationen zur Nachhaltigen Beschaffung in Brandenburg vorstellen und mit Ihnen dazu ins Gespräch kommen.
LOCATION:online
URL:
END:VEVENT
END:VCALENDAR
