BEGIN:VCALENDAR
VERSION:2.0
METHOD:PUBLISH
X-WR-CALNAME;VALUE=TEXT:
PRODID:-//Drupal iCal API//EN
BEGIN:VEVENT
UID:wfbb-event-3574
DTSTAMP:20260115T085356Z
DTSTART:20231017T080000Z
DTEND:20231017T100000Z
SUMMARY:Förderung - Digitalisierung: So geht´s!
DESCRIPTION:Erhalten Sie einen Überblick über Förderinstrumente für die Digitalisierung im Unter-nehmen und Forschungs- und Innovationsprojekte im Bereich der Digitalisierung.
LOCATION:online
URL:https://een-bb.de/termine/registrierung/foerderung-digitalisierung-so-gehts/
END:VEVENT
END:VCALENDAR
