BEGIN:VCALENDAR
VERSION:2.0
METHOD:PUBLISH
X-WR-CALNAME;VALUE=TEXT:
PRODID:-//Drupal iCal API//EN
BEGIN:VEVENT
UID:wfbb-event-3639
DTSTAMP:20240913T114409Z
DTSTART:20231130T150000Z
DTEND:20231130T180000Z
SUMMARY:Künstliche Intelligenz und IT-Sicherheit: Chance oder Bedrohung?
DESCRIPTION:Ziel der Veranstaltung sowie der Fachbeiträge ist es, einen allgemeinverständlichen Überblick über künstliche Intelligenz und ihre Einsatzgebiete insbesondere im Bereich der IT-Sicherheit zu geben.

 
LOCATION:betahaus Rudi-Dutschke-Str 23 10969 Berlin
URL:https://www.eventbrite.de/e/kunstliche-intelligenz-und-it-sicherheit-chance-oder-bedrohung-tickets-764129801807?aff=oddtdtcreator
END:VEVENT
END:VCALENDAR
