BEGIN:VCALENDAR
VERSION:2.0
METHOD:PUBLISH
X-WR-CALNAME;VALUE=TEXT:
PRODID:-//Drupal iCal API//EN
BEGIN:VEVENT
UID:wfbb-event-3648
DTSTAMP:20240913T114409Z
DTSTART:20240123T150000Z
DTEND:20240123T163000Z
SUMMARY:Praxis trifft Forschung #3 - Grüne Woche Edition
DESCRIPTION:- wie Lebensmitteltechnologie die Unternehmen der Ernährungswirtschaft unterstützen kann

Das neue gemeinsame Format "Praxis trifft Forschung" von Cluster Ernährungswirtschaft und Berlin Partner lädt interessierte Unternehmen der Ernährungswirtschaft ein, wissenschaftliche Einrichtungen in der Hauptstadtregion kennenzulernen. Welche Services stehen Ihnen zur Verfügung? Wie kann Transfer von wissenschaftlichen Erkenntnissen in die tägliche Praxis gelingen?
LOCATION:Messe Berlin - Kleiner Stern  Messedamm 22 14055 Berlin
URL:
END:VEVENT
END:VCALENDAR
