BEGIN:VCALENDAR
VERSION:2.0
METHOD:PUBLISH
X-WR-CALNAME;VALUE=TEXT:
PRODID:-//Drupal iCal API//EN
BEGIN:VEVENT
UID:wfbb-event-3649
DTSTAMP:20240913T114409Z
DTSTART:20240222T143000Z
DTEND:20240222T173000Z
SUMMARY:Abgesagt: Automatisierungstechniken und digitale Werkzeuge Ernährungswirtschaft
DESCRIPTION:Berlin Partner und das Clustermanagement Ernährungswirtschaft laden gemeinsam mit dem Mttelstand- Digital Zentrum Spreeland zu Informationsveranstaltung "Automatisierungstechniken und digitale Werkzeuge für Produktion und Wissensmanagement" in der Ernährungswirtschaft
LOCATION:Mittelstand-Digital Zentrum Spreeland c/o Brandenburgische Technische Universität Cottbus - Senftenberg Siemens-Halske-Ring 14 | Lehrgebäude 3A 03046 Cottbus
URL:
END:VEVENT
END:VCALENDAR
