BEGIN:VCALENDAR
VERSION:2.0
METHOD:PUBLISH
X-WR-CALNAME;VALUE=TEXT:
PRODID:-//Drupal iCal API//EN
BEGIN:VEVENT
UID:wfbb-event-3651
DTSTAMP:20241118T145947Z
DTSTART:20240119T073000Z
DTEND:20240119T173000Z
SUMMARY:Nationaler Informationstag zum EU-Innovationsfonds
DESCRIPTION:Das Bundesministerium für Wirtschaft und Klimaschutz (BMWK) und die Nationale Kontaktstelle EU-Innovationsfonds laden Sie herzlich zum Nationalen Informationstag für den EU-Innovationsfonds in das Bundesministerium für Wirtschaft und Klimaschutz in Berlin ein.
LOCATION:Bundesministerium für Wirtschaft und Klimaschutz (BMWK) Scharnhorststr. 34-37 10115 Berlin
URL:https://www.klimaschutz-industrie.de/veranstaltungen/nationaler-informationstag-zum-eu-innovationsfonds/
END:VEVENT
END:VCALENDAR
