BEGIN:VCALENDAR
VERSION:2.0
METHOD:PUBLISH
X-WR-CALNAME;VALUE=TEXT:
PRODID:-//Drupal iCal API//EN
BEGIN:VEVENT
UID:wfbb-event-3714
DTSTAMP:20240913T114409Z
DTSTART:20240313T150000Z
DTEND:20240313T180000Z
SUMMARY:Grüne Intelligenz #2: KI in der nachhaltigen Lebensmittelproduktion
DESCRIPTION:Der Workshop „Grüne Intelligenz #2" des Mittelstand-Digital Zentrums Zukunftskultur ist Teil einer Veranstaltungsreihe verschiedener Mittelstand-Digital Zentren deutschlandweit.
LOCATION:Retail Garage in Berlin Alte Potsdamer Str. 7 10785 Berlin
URL:https://www.digitalzentrum-zukunftskultur.de/veranstaltungen/gruene-intelligenz-2-12383/
END:VEVENT
END:VCALENDAR
