BEGIN:VCALENDAR
VERSION:2.0
METHOD:PUBLISH
X-WR-CALNAME;VALUE=TEXT:
PRODID:-//Drupal iCal API//EN
BEGIN:VEVENT
UID:wfbb-event-3734
DTSTAMP:20240913T114409Z
DTSTART:20240314T093000Z
DTEND:20240314T143000Z
SUMMARY:Öko-Praxistage Brandenburg 2024 - mehr wissen über Bio
DESCRIPTION:Veranstaltungsreihe "Öko-Praxistage Brandenburg 2024 - Mehr wissen über Bio" für die Akteure des Agrar- und Ernährungssektors Brandenburg wird im Rahmen des Umsetzungsprozesses Ökoaktionsplan Brandenburg organisiert
LOCATION:ZALF Eberswalder Straße 84 15374 Müncheberg
URL:https://forms.office.com/pages/responsepage.aspx?id=VaCiE02ViEWX7LVNYjj9Xkf2zvA62fFPsthGi3GhCnNUMktNVjUxTUFZWEhMS1lUUVRRR05LT0YwOSQlQCN0PWcu
END:VEVENT
END:VCALENDAR
