BEGIN:VCALENDAR
VERSION:2.0
METHOD:PUBLISH
X-WR-CALNAME;VALUE=TEXT:
PRODID:-//Drupal iCal API//EN
BEGIN:VEVENT
UID:wfbb-event-3735
DTSTAMP:20240913T114409Z
DTSTART:20240313T150000Z
DTEND:20240313T180000Z
SUMMARY:it&#039;s.BB-Veranstaltung | EU AI Act – Wie gestalten WIR eine  vertrauenswürdige KI
DESCRIPTION:Das IT-Sicherheitsnetzwerk Berlin-Brandenburg it’s.BB e.V. lädt zu seiner Awareness-Veranstaltung zum Thema „EU AI Act – Wie gestalten WIR eine vertrauenswürdige KI?“ ein. Die Veranstaltung befasst sich mit den rechtlichen und technischen Herausforderungen bei der Entwicklung vertrauenswürdiger und starker KI-Lösungen und behandelt dabei die folgenden Kernthemen: Risikobewertung und entsprechende Lösungsmöglichkeiten, KI-Folgenabschätzung, sichere KI, Schutz vor KI-Angriffen, Transparenz, Nachvollziehbarkeit und Zuverlässigkeit.
LOCATION:M&amp;amp;H IT-Security GmbH Hardenbergstraße 19 10623 Berlin
URL:https://www.eventbrite.com/e/eu-ai-act-wie-gestalten-wir-eine-vertrauenswurdige-ki-tickets-848494799787?aff=oddtdtcreator
END:VEVENT
END:VCALENDAR
